BEGIN:VCALENDAR
VERSION:2.0
PRODID:-//Plurielle.info - ECPv6.15.20//NONSGML v1.0//EN
CALSCALE:GREGORIAN
METHOD:PUBLISH
X-WR-CALNAME:Plurielle.info
X-ORIGINAL-URL:https://plurielle.info
X-WR-CALDESC:Évènements pour Plurielle.info
REFRESH-INTERVAL;VALUE=DURATION:PT1H
X-Robots-Tag:noindex
X-PUBLISHED-TTL:PT1H
BEGIN:VTIMEZONE
TZID:Europe/Paris
BEGIN:DAYLIGHT
TZOFFSETFROM:+0100
TZOFFSETTO:+0200
TZNAME:CEST
DTSTART:20250330T010000
END:DAYLIGHT
BEGIN:STANDARD
TZOFFSETFROM:+0200
TZOFFSETTO:+0100
TZNAME:CET
DTSTART:20251026T010000
END:STANDARD
BEGIN:DAYLIGHT
TZOFFSETFROM:+0100
TZOFFSETTO:+0200
TZNAME:CEST
DTSTART:20260329T010000
END:DAYLIGHT
BEGIN:STANDARD
TZOFFSETFROM:+0200
TZOFFSETTO:+0100
TZNAME:CET
DTSTART:20261025T010000
END:STANDARD
BEGIN:DAYLIGHT
TZOFFSETFROM:+0100
TZOFFSETTO:+0200
TZNAME:CEST
DTSTART:20270328T010000
END:DAYLIGHT
BEGIN:STANDARD
TZOFFSETFROM:+0200
TZOFFSETTO:+0100
TZNAME:CET
DTSTART:20271031T010000
END:STANDARD
END:VTIMEZONE
BEGIN:VEVENT
DTSTART;TZID=Europe/Paris:20260425T143000
DTEND;TZID=Europe/Paris:20260425T170000
DTSTAMP:20260421T152348
CREATED:20260420T202943Z
LAST-MODIFIED:20260420T202943Z
UID:18838-1777127400-1777136400@plurielle.info
SUMMARY:Loto du PCF
DESCRIPTION:La section de Sète du PCF organise son grand loto annuel ce dernier samedi du mois d’avril avec 20 quines et buvette sur place
URL:https://plurielle.info/agenda/loto-du-pcf/
LOCATION:Salle Brassens\, 134 quai des Moulins\, Sète\, 34200\, France
CATEGORIES:Mobilisation
ATTACH;FMTTYPE=application/pdf:https://plurielle.info/wp-content/uploads/2026/04/Grand_Loto_25avril.pdf
END:VEVENT
END:VCALENDAR